BEGIN:VCALENDAR
VERSION:2.0
CALSCALE:GREGORIAN
BEGIN:VEVENT
URL:https://www.learndesk.us/class/5473041867866112/lesson/332991b42b36a6b57134ac83e09b659f?ref=outlook-calendar
SUMMARY:Security Policies
DTSTART;TZID=America/Los_Angeles:20260422T190000
DTEND;TZID=America/Los_Angeles:20260422T200000
LOCATION:https://www.learndesk.us/class/5473041867866112/lesson/332991b42b36a6b57134ac83e09b659f?ref=outlook-calendar
DESCRIPTION: In this lesson, you will learn about the various policies in an organization, including privacy, acceptable use, change management, separation of duties, job rotation, mandatory vacation, onboarding and offboarding, due diligence, due care, and due process.  

https://www.learndesk.us/class/5473041867866112/lesson/332991b42b36a6b57134ac83e09b659f?ref=outlook-calendar
STATUS:CONFIRMED
SEQUENCE:3
BEGIN:VALARM
TRIGGER:-PT10M
DESCRIPTION:Class Reminder
ACTION:DISPLAY
END:VALARM
END:VEVENT
END:VCALENDAR