BEGIN:VCALENDAR
VERSION:2.0
CALSCALE:GREGORIAN
BEGIN:VEVENT
URL:https://www.learndesk.us/class/5473041867866112/lesson/2e3ce546f5e626e93acd1c56e512816a?ref=outlook-calendar
SUMMARY:Backdoors and Logic Bombs
DTSTART;TZID=America/Los_Angeles:20260422T190000
DTEND;TZID=America/Los_Angeles:20260422T200000
LOCATION:https://www.learndesk.us/class/5473041867866112/lesson/2e3ce546f5e626e93acd1c56e512816a?ref=outlook-calendar
DESCRIPTION: This lesson covers backdoors and logic bombs.

https://www.learndesk.us/class/5473041867866112/lesson/2e3ce546f5e626e93acd1c56e512816a?ref=outlook-calendar
STATUS:CONFIRMED
SEQUENCE:3
BEGIN:VALARM
TRIGGER:-PT10M
DESCRIPTION:Class Reminder
ACTION:DISPLAY
END:VALARM
END:VEVENT
END:VCALENDAR