BEGIN:VCALENDAR
VERSION:2.0
CALSCALE:GREGORIAN
BEGIN:VEVENT
URL:https://www.learndesk.us/class/5473041867866112/lesson/2a81c51f1ccf06e9a13ed72f0a671eed?ref=outlook-calendar
SUMMARY:Demo: Disk Imaging
DTSTART;TZID=America/Los_Angeles:20260422T190000
DTEND;TZID=America/Los_Angeles:20260422T200000
LOCATION:https://www.learndesk.us/class/5473041867866112/lesson/2a81c51f1ccf06e9a13ed72f0a671eed?ref=outlook-calendar
DESCRIPTION: In this demonstration, you will learn how a disk image is created during a forensic data acquisition.

https://www.learndesk.us/class/5473041867866112/lesson/2a81c51f1ccf06e9a13ed72f0a671eed?ref=outlook-calendar
STATUS:CONFIRMED
SEQUENCE:3
BEGIN:VALARM
TRIGGER:-PT10M
DESCRIPTION:Class Reminder
ACTION:DISPLAY
END:VALARM
END:VEVENT
END:VCALENDAR