BEGIN:VCALENDAR
VERSION:2.0
CALSCALE:GREGORIAN
BEGIN:VEVENT
URL:https://www.learndesk.us/class/5473041867866112/lesson/27a5ab1773dd3637c75ca07c43829390?ref=outlook-calendar
SUMMARY:Data Classifications
DTSTART;TZID=America/Los_Angeles:20260422T190000
DTEND;TZID=America/Los_Angeles:20260422T200000
LOCATION:https://www.learndesk.us/class/5473041867866112/lesson/27a5ab1773dd3637c75ca07c43829390?ref=outlook-calendar
DESCRIPTION: In this lesson, you will learn about the various types of data classification used in the industry and the government.

https://www.learndesk.us/class/5473041867866112/lesson/27a5ab1773dd3637c75ca07c43829390?ref=outlook-calendar
STATUS:CONFIRMED
SEQUENCE:3
BEGIN:VALARM
TRIGGER:-PT10M
DESCRIPTION:Class Reminder
ACTION:DISPLAY
END:VALARM
END:VEVENT
END:VCALENDAR