BEGIN:VCALENDAR
VERSION:2.0
CALSCALE:GREGORIAN
BEGIN:VEVENT
URL:https://www.learndesk.us/class/5473041867866112/lesson/26bdc55cd235e595b62a306165cb2f61?ref=outlook-calendar
SUMMARY:Social Engineering
DTSTART;TZID=America/Los_Angeles:20260423T190000
DTEND;TZID=America/Los_Angeles:20260423T200000
LOCATION:https://www.learndesk.us/class/5473041867866112/lesson/26bdc55cd235e595b62a306165cb2f61?ref=outlook-calendar
DESCRIPTION: 
This section summarizes the course.

Social engineering
Demo: Pretexting
Insider Threat
Phishing
More social engineering
User education



https://www.learndesk.us/class/5473041867866112/lesson/26bdc55cd235e595b62a306165cb2f61?ref=outlook-calendar
STATUS:CONFIRMED
SEQUENCE:3
BEGIN:VALARM
TRIGGER:-PT10M
DESCRIPTION:Class Reminder
ACTION:DISPLAY
END:VALARM
END:VEVENT
END:VCALENDAR