BEGIN:VCALENDAR
VERSION:2.0
CALSCALE:GREGORIAN
BEGIN:VEVENT
URL:https://www.learndesk.us/class/5473041867866112/lesson/263e315e878d37c5f72931aa8b3b576a?ref=outlook-calendar
SUMMARY:Spam
DTSTART;TZID=America/Los_Angeles:20260425T190000
DTEND;TZID=America/Los_Angeles:20260425T200000
LOCATION:https://www.learndesk.us/class/5473041867866112/lesson/263e315e878d37c5f72931aa8b3b576a?ref=outlook-calendar
DESCRIPTION: This lesson discusses the concept of spam.

https://www.learndesk.us/class/5473041867866112/lesson/263e315e878d37c5f72931aa8b3b576a?ref=outlook-calendar
STATUS:CONFIRMED
SEQUENCE:3
BEGIN:VALARM
TRIGGER:-PT10M
DESCRIPTION:Class Reminder
ACTION:DISPLAY
END:VALARM
END:VEVENT
END:VCALENDAR