BEGIN:VCALENDAR
VERSION:2.0
CALSCALE:GREGORIAN
BEGIN:VEVENT
URL:https://www.learndesk.us/class/5473041867866112/lesson/254ba8be076446a507f0fab111c230f8?ref=outlook-calendar
SUMMARY:Monitoring and Auditing
DTSTART;TZID=America/Los_Angeles:20260424T190000
DTEND;TZID=America/Los_Angeles:20260424T200000
LOCATION:https://www.learndesk.us/class/5473041867866112/lesson/254ba8be076446a507f0fab111c230f8?ref=outlook-calendar
DESCRIPTION: 
Learn about Monitoring and Auditing.

Monitoring types
Performance baselining
Protocol analyzers
SNMP
Demo: Analytical tools
Auditing
Demo: Auditing files
Logging
Log files
SIEM



https://www.learndesk.us/class/5473041867866112/lesson/254ba8be076446a507f0fab111c230f8?ref=outlook-calendar
STATUS:CONFIRMED
SEQUENCE:3
BEGIN:VALARM
TRIGGER:-PT10M
DESCRIPTION:Class Reminder
ACTION:DISPLAY
END:VALARM
END:VEVENT
END:VCALENDAR