BEGIN:VCALENDAR
VERSION:2.0
CALSCALE:GREGORIAN
BEGIN:VEVENT
URL:https://www.learndesk.us/class/5473041867866112/lesson/2523e67205e9431cb92174c0f55263f8?ref=outlook-calendar
SUMMARY:DDoS
DTSTART;TZID=America/Los_Angeles:20260422T190000
DTEND;TZID=America/Los_Angeles:20260422T200000
LOCATION:https://www.learndesk.us/class/5473041867866112/lesson/2523e67205e9431cb92174c0f55263f8?ref=outlook-calendar
DESCRIPTION: In this lesson, we will discuss how a distributed denial of service attack works.

https://www.learndesk.us/class/5473041867866112/lesson/2523e67205e9431cb92174c0f55263f8?ref=outlook-calendar
STATUS:CONFIRMED
SEQUENCE:3
BEGIN:VALARM
TRIGGER:-PT10M
DESCRIPTION:Class Reminder
ACTION:DISPLAY
END:VALARM
END:VEVENT
END:VCALENDAR