BEGIN:VCALENDAR
VERSION:2.0
CALSCALE:GREGORIAN
BEGIN:VEVENT
URL:https://www.learndesk.us/class/5473041867866112/lesson/23e338c68cd16ba6a0497f36fd2b0f47?ref=outlook-calendar
SUMMARY:Surveillance
DTSTART;TZID=America/Los_Angeles:20260424T190000
DTEND;TZID=America/Los_Angeles:20260424T200000
LOCATION:https://www.learndesk.us/class/5473041867866112/lesson/23e338c68cd16ba6a0497f36fd2b0f47?ref=outlook-calendar
DESCRIPTION: In this lesson, you will learn about perimeter defense and CCTV.

https://www.learndesk.us/class/5473041867866112/lesson/23e338c68cd16ba6a0497f36fd2b0f47?ref=outlook-calendar
STATUS:CONFIRMED
SEQUENCE:3
BEGIN:VALARM
TRIGGER:-PT10M
DESCRIPTION:Class Reminder
ACTION:DISPLAY
END:VALARM
END:VEVENT
END:VCALENDAR