BEGIN:VCALENDAR
VERSION:2.0
CALSCALE:GREGORIAN
BEGIN:VEVENT
URL:https://www.learndesk.us/class/5473041867866112/lesson/224716b2842f0f2fb1b26593b61e7537?ref=outlook-calendar
SUMMARY:Security Protocols
DTSTART;TZID=America/Los_Angeles:20260422T190000
DTEND;TZID=America/Los_Angeles:20260422T200000
LOCATION:https://www.learndesk.us/class/5473041867866112/lesson/224716b2842f0f2fb1b26593b61e7537?ref=outlook-calendar
DESCRIPTION: 
Learn about Security Protocols.

Security protocols
S/MIME
SSL and TLS
SSH
VPN protocols
Demo: Setting up a VPN



https://www.learndesk.us/class/5473041867866112/lesson/224716b2842f0f2fb1b26593b61e7537?ref=outlook-calendar
STATUS:CONFIRMED
SEQUENCE:3
BEGIN:VALARM
TRIGGER:-PT10M
DESCRIPTION:Class Reminder
ACTION:DISPLAY
END:VALARM
END:VEVENT
END:VCALENDAR