BEGIN:VCALENDAR
VERSION:2.0
CALSCALE:GREGORIAN
BEGIN:VEVENT
URL:https://www.learndesk.us/class/5473041867866112/lesson/21acfa4e13e88222c2521e6a34406502?ref=outlook-calendar
SUMMARY:Cryptography
DTSTART;TZID=America/Los_Angeles:20260422T190000
DTEND;TZID=America/Los_Angeles:20260422T200000
LOCATION:https://www.learndesk.us/class/5473041867866112/lesson/21acfa4e13e88222c2521e6a34406502?ref=outlook-calendar
DESCRIPTION: 
Learn about Cryptography.

Cryptography
Symmetric vs Asymmetric
Symmetric algorithms
Public key cryptography
Asymmetric algorithms
Pretty good privacy
Key management
One-time pad
Demo: Steganography
Hashing
Demo: Hashing
Hashing Attacks
Increasing Hash Security



https://www.learndesk.us/class/5473041867866112/lesson/21acfa4e13e88222c2521e6a34406502?ref=outlook-calendar
STATUS:CONFIRMED
SEQUENCE:3
BEGIN:VALARM
TRIGGER:-PT10M
DESCRIPTION:Class Reminder
ACTION:DISPLAY
END:VALARM
END:VEVENT
END:VCALENDAR