BEGIN:VCALENDAR
VERSION:2.0
CALSCALE:GREGORIAN
BEGIN:VEVENT
URL:https://www.learndesk.us/class/5473041867866112/lesson/21711c54fae96611b450477ecfc499a8?ref=outlook-calendar
SUMMARY:Hackers
DTSTART;TZID=America/Los_Angeles:20260422T190000
DTEND;TZID=America/Los_Angeles:20260422T200000
LOCATION:https://www.learndesk.us/class/5473041867866112/lesson/21711c54fae96611b450477ecfc499a8?ref=outlook-calendar
DESCRIPTION: This lesson covers the 5 different types of hackers: white hats, black hats, gray hats, blue hats, and elite.

https://www.learndesk.us/class/5473041867866112/lesson/21711c54fae96611b450477ecfc499a8?ref=outlook-calendar
STATUS:CONFIRMED
SEQUENCE:3
BEGIN:VALARM
TRIGGER:-PT10M
DESCRIPTION:Class Reminder
ACTION:DISPLAY
END:VALARM
END:VEVENT
END:VCALENDAR