BEGIN:VCALENDAR
VERSION:2.0
CALSCALE:GREGORIAN
BEGIN:VEVENT
URL:https://www.learndesk.us/class/5473041867866112/lesson/1fc9c6d519502a9a247256418edb864f?ref=outlook-calendar
SUMMARY:Disposal Policies
DTSTART;TZID=America/Los_Angeles:20260422T190000
DTEND;TZID=America/Los_Angeles:20260422T200000
LOCATION:https://www.learndesk.us/class/5473041867866112/lesson/1fc9c6d519502a9a247256418edb864f?ref=outlook-calendar
DESCRIPTION: In this lesson, you will learn how to create effective disposal policies for equipment that is no longer needed by your organization.

https://www.learndesk.us/class/5473041867866112/lesson/1fc9c6d519502a9a247256418edb864f?ref=outlook-calendar
STATUS:CONFIRMED
SEQUENCE:3
BEGIN:VALARM
TRIGGER:-PT10M
DESCRIPTION:Class Reminder
ACTION:DISPLAY
END:VALARM
END:VEVENT
END:VCALENDAR