BEGIN:VCALENDAR
VERSION:2.0
CALSCALE:GREGORIAN
BEGIN:VEVENT
URL:https://www.learndesk.us/class/5473041867866112/lesson/1b14ab6973141428298a5cc27f106a17?ref=outlook-calendar
SUMMARY:Defending Servers
DTSTART;TZID=America/Los_Angeles:20260422T190000
DTEND;TZID=America/Los_Angeles:20260422T200000
LOCATION:https://www.learndesk.us/class/5473041867866112/lesson/1b14ab6973141428298a5cc27f106a17?ref=outlook-calendar
DESCRIPTION: In this lesson, we will discuss how to defend the five main types of servers and some of their common vulnerabilities.

https://www.learndesk.us/class/5473041867866112/lesson/1b14ab6973141428298a5cc27f106a17?ref=outlook-calendar
STATUS:CONFIRMED
SEQUENCE:3
BEGIN:VALARM
TRIGGER:-PT10M
DESCRIPTION:Class Reminder
ACTION:DISPLAY
END:VALARM
END:VEVENT
END:VCALENDAR