BEGIN:VCALENDAR
VERSION:2.0
CALSCALE:GREGORIAN
BEGIN:VEVENT
URL:https://www.learndesk.us/class/5473041867866112/lesson/1974426e39e710b81d0dd7fe6e902a6d?ref=outlook-calendar
SUMMARY:Usernames and Passwords
DTSTART;TZID=America/Los_Angeles:20260422T190000
DTEND;TZID=America/Los_Angeles:20260422T200000
LOCATION:https://www.learndesk.us/class/5473041867866112/lesson/1974426e39e710b81d0dd7fe6e902a6d?ref=outlook-calendar
DESCRIPTION: In this lesson, you will learn how to best secure the most common method of authentication: the username and password combination.

https://www.learndesk.us/class/5473041867866112/lesson/1974426e39e710b81d0dd7fe6e902a6d?ref=outlook-calendar
STATUS:CONFIRMED
SEQUENCE:3
BEGIN:VALARM
TRIGGER:-PT10M
DESCRIPTION:Class Reminder
ACTION:DISPLAY
END:VALARM
END:VEVENT
END:VCALENDAR