BEGIN:VCALENDAR
VERSION:2.0
CALSCALE:GREGORIAN
BEGIN:VEVENT
URL:https://www.learndesk.us/class/5473041867866112/lesson/147e200e95aa98b3594f66756e94f950?ref=outlook-calendar
SUMMARY:Log Files
DTSTART;TZID=America/Los_Angeles:20260422T190000
DTEND;TZID=America/Los_Angeles:20260422T200000
LOCATION:https://www.learndesk.us/class/5473041867866112/lesson/147e200e95aa98b3594f66756e94f950?ref=outlook-calendar
DESCRIPTION: In this lesson, you will learn how to conduct maintenance on log files and how to secure them.

https://www.learndesk.us/class/5473041867866112/lesson/147e200e95aa98b3594f66756e94f950?ref=outlook-calendar
STATUS:CONFIRMED
SEQUENCE:3
BEGIN:VALARM
TRIGGER:-PT10M
DESCRIPTION:Class Reminder
ACTION:DISPLAY
END:VALARM
END:VEVENT
END:VCALENDAR