BEGIN:VCALENDAR
VERSION:2.0
CALSCALE:GREGORIAN
BEGIN:VEVENT
URL:https://www.learndesk.us/class/5473041867866112/lesson/13fef6672ba4651d2c2ef8e3b77e943b?ref=outlook-calendar
SUMMARY:Security Applications and Devices
DTSTART;TZID=America/Los_Angeles:20260422T190000
DTEND;TZID=America/Los_Angeles:20260422T200000
LOCATION:https://www.learndesk.us/class/5473041867866112/lesson/13fef6672ba4651d2c2ef8e3b77e943b?ref=outlook-calendar
DESCRIPTION: This lesson provides an overview of this section of the course.

https://www.learndesk.us/class/5473041867866112/lesson/13fef6672ba4651d2c2ef8e3b77e943b?ref=outlook-calendar
STATUS:CONFIRMED
SEQUENCE:3
BEGIN:VALARM
TRIGGER:-PT10M
DESCRIPTION:Class Reminder
ACTION:DISPLAY
END:VALARM
END:VEVENT
END:VCALENDAR