BEGIN:VCALENDAR
VERSION:2.0
CALSCALE:GREGORIAN
BEGIN:VEVENT
URL:https://www.learndesk.us/class/5473041867866112/lesson/13986be5d19755526196df9a534a5dd3?ref=outlook-calendar
SUMMARY:Malware
DTSTART;TZID=America/Los_Angeles:20260422T190000
DTEND;TZID=America/Los_Angeles:20260422T200000
LOCATION:https://www.learndesk.us/class/5473041867866112/lesson/13986be5d19755526196df9a534a5dd3?ref=outlook-calendar
DESCRIPTION: 
This section will teach you about Malware.

Malware
Viruses
Worms
Trojans
Demo: Viruses and Trojans
Ransomware
Spyware
Rootkits
Spam
Summary of Malware



https://www.learndesk.us/class/5473041867866112/lesson/13986be5d19755526196df9a534a5dd3?ref=outlook-calendar
STATUS:CONFIRMED
SEQUENCE:3
BEGIN:VALARM
TRIGGER:-PT10M
DESCRIPTION:Class Reminder
ACTION:DISPLAY
END:VALARM
END:VEVENT
END:VCALENDAR