BEGIN:VCALENDAR
VERSION:2.0
CALSCALE:GREGORIAN
BEGIN:VEVENT
URL:https://www.learndesk.us/class/5473041867866112/lesson/0b5f85e588ed58e0668f7202a045e22e?ref=outlook-calendar
SUMMARY:PII and PHI
DTSTART;TZID=America/Los_Angeles:20260422T190000
DTEND;TZID=America/Los_Angeles:20260422T200000
LOCATION:https://www.learndesk.us/class/5473041867866112/lesson/0b5f85e588ed58e0668f7202a045e22e?ref=outlook-calendar
DESCRIPTION: In this lesson, you will learn about PII, PHI, and the various legislation passed that attempt to protect them.

https://www.learndesk.us/class/5473041867866112/lesson/0b5f85e588ed58e0668f7202a045e22e?ref=outlook-calendar
STATUS:CONFIRMED
SEQUENCE:3
BEGIN:VALARM
TRIGGER:-PT10M
DESCRIPTION:Class Reminder
ACTION:DISPLAY
END:VALARM
END:VEVENT
END:VCALENDAR