BEGIN:VCALENDAR
VERSION:2.0
CALSCALE:GREGORIAN
BEGIN:VEVENT
URL:https://www.learndesk.us/class/5473041867866112/lesson/08bf3bd72df1a50343c8809d49ee29bb?ref=outlook-calendar
SUMMARY:Demo: Web Browser Configuration
DTSTART;TZID=America/Los_Angeles:20260422T190000
DTEND;TZID=America/Los_Angeles:20260422T200000
LOCATION:https://www.learndesk.us/class/5473041867866112/lesson/08bf3bd72df1a50343c8809d49ee29bb?ref=outlook-calendar
DESCRIPTION: This demonstration will show you how to best configure your web browser on Windows for a secure environment.

https://www.learndesk.us/class/5473041867866112/lesson/08bf3bd72df1a50343c8809d49ee29bb?ref=outlook-calendar
STATUS:CONFIRMED
SEQUENCE:3
BEGIN:VALARM
TRIGGER:-PT10M
DESCRIPTION:Class Reminder
ACTION:DISPLAY
END:VALARM
END:VEVENT
END:VCALENDAR