BEGIN:VCALENDAR
VERSION:2.0
CALSCALE:GREGORIAN
BEGIN:VEVENT
URL:https://www.learndesk.us/class/5473041867866112/lesson/00fb6749dab0c4a77390fb81cce8c777?ref=outlook-calendar
SUMMARY:Network Attacks
DTSTART;TZID=America/Los_Angeles:20260422T190000
DTEND;TZID=America/Los_Angeles:20260422T200000
LOCATION:https://www.learndesk.us/class/5473041867866112/lesson/00fb6749dab0c4a77390fb81cce8c777?ref=outlook-calendar
DESCRIPTION: In this lesson, you will learn what is covered in this section, including ports, protocols, and various network attacks.

https://www.learndesk.us/class/5473041867866112/lesson/00fb6749dab0c4a77390fb81cce8c777?ref=outlook-calendar
STATUS:CONFIRMED
SEQUENCE:3
BEGIN:VALARM
TRIGGER:-PT10M
DESCRIPTION:Class Reminder
ACTION:DISPLAY
END:VALARM
END:VEVENT
END:VCALENDAR