BEGIN:VCALENDAR
VERSION:2.0
CALSCALE:GREGORIAN
BEGIN:VEVENT
URL:https://www.learndesk.us/class/5473041867866112/lesson/00f14b1728e8d70ad7dc325fd8f664f3?ref=outlook-calendar
SUMMARY:Vulnerability Assessments
DTSTART;TZID=America/Los_Angeles:20260422T190000
DTEND;TZID=America/Los_Angeles:20260422T200000
LOCATION:https://www.learndesk.us/class/5473041867866112/lesson/00f14b1728e8d70ad7dc325fd8f664f3?ref=outlook-calendar
DESCRIPTION: In this lesson, we will discuss the various tools used to conduct a vulnerability assessment.

https://www.learndesk.us/class/5473041867866112/lesson/00f14b1728e8d70ad7dc325fd8f664f3?ref=outlook-calendar
STATUS:CONFIRMED
SEQUENCE:3
BEGIN:VALARM
TRIGGER:-PT10M
DESCRIPTION:Class Reminder
ACTION:DISPLAY
END:VALARM
END:VEVENT
END:VCALENDAR