BEGIN:VCALENDAR
VERSION:2.0
CALSCALE:GREGORIAN
BEGIN:VEVENT
URL:https://www.learndesk.us/class/5473041867866112/comptia-security-sy0-501-complete-course-and-practice-exam?ref=outlook-calendar
SUMMARY:CompTIA Security+ (SY0-501): Complete Course and Practice Exam
DTSTART;TZID=America/Los_Angeles:20260422T190000
DTEND;TZID=America/Los_Angeles:20260422T200000
LOCATION:https://www.learndesk.us/class/5473041867866112/comptia-security-sy0-501-complete-course-and-practice-exam?ref=outlook-calendar
DESCRIPTION: 
This course is designed to help prepare you for the CompTIA Security+ (SY0-501) certification exam and covers the six domains for the Security+ (SY0-501) certification exam:
 

• Threats, attacks, and vulnerabilities• Technologies and tools• Architecture and design• Identity and access management• Risk management• Cryptography and PKI
You will learn the fundamentals of cybersecurity and gain experience in the configuration, management, and troubleshooting of common wired and wireless networks.All the code files are placed at https://github.com/PacktPublishing/CompTIA-Security-SY0-501-Complete-Course-and-Practice-Exam
 
Who should take this course?


Students who want to pass the CompTIA Security+ certification exam.
Students wanting to learn the terminology and nomenclature of computer security.
Students seeking a career in cybersecurity.





https://www.learndesk.us/class/5473041867866112/comptia-security-sy0-501-complete-course-and-practice-exam?ref=outlook-calendar
STATUS:CONFIRMED
SEQUENCE:3
BEGIN:VALARM
TRIGGER:-PT10M
DESCRIPTION:Class Reminder
ACTION:DISPLAY
END:VALARM
END:VEVENT
END:VCALENDAR