BEGIN:VCALENDAR
VERSION:2.0
CALSCALE:GREGORIAN
BEGIN:VEVENT
URL:https://www.learndesk.us/class/5461001015132160/lesson/fe7661ff691b0507412293088f3f079f?ref=outlook-calendar
SUMMARY:Day 8 Lecture and Questions
DTSTART;TZID=America/Los_Angeles:20260421T190000
DTEND;TZID=America/Los_Angeles:20260421T200000
LOCATION:https://www.learndesk.us/class/5461001015132160/lesson/fe7661ff691b0507412293088f3f079f?ref=outlook-calendar
DESCRIPTION: https://www.learndesk.us/class/5461001015132160/lesson/fe7661ff691b0507412293088f3f079f?ref=outlook-calendar
STATUS:CONFIRMED
SEQUENCE:3
BEGIN:VALARM
TRIGGER:-PT10M
DESCRIPTION:Class Reminder
ACTION:DISPLAY
END:VALARM
END:VEVENT
END:VCALENDAR