BEGIN:VCALENDAR
VERSION:2.0
CALSCALE:GREGORIAN
BEGIN:VEVENT
URL:https://www.learndesk.us/class/5461001015132160/lesson/7944708ee0b7a6725871a5e72bd77106?ref=outlook-calendar
SUMMARY:Day 5 - The Timeline Approach
DTSTART;TZID=America/Los_Angeles:20260421T190000
DTEND;TZID=America/Los_Angeles:20260421T200000
LOCATION:https://www.learndesk.us/class/5461001015132160/lesson/7944708ee0b7a6725871a5e72bd77106?ref=outlook-calendar
DESCRIPTION: https://www.learndesk.us/class/5461001015132160/lesson/7944708ee0b7a6725871a5e72bd77106?ref=outlook-calendar
STATUS:CONFIRMED
SEQUENCE:3
BEGIN:VALARM
TRIGGER:-PT10M
DESCRIPTION:Class Reminder
ACTION:DISPLAY
END:VALARM
END:VEVENT
END:VCALENDAR