BEGIN:VCALENDAR
VERSION:2.0
CALSCALE:GREGORIAN
BEGIN:VEVENT
URL:https://www.learndesk.us/class/5461001015132160/lesson/74d0b8f765f32eeb261e89075fe2bbb8?ref=outlook-calendar
SUMMARY:Day 4 Lecture and Question
DTSTART;TZID=America/Los_Angeles:20260421T190000
DTEND;TZID=America/Los_Angeles:20260421T200000
LOCATION:https://www.learndesk.us/class/5461001015132160/lesson/74d0b8f765f32eeb261e89075fe2bbb8?ref=outlook-calendar
DESCRIPTION: https://www.learndesk.us/class/5461001015132160/lesson/74d0b8f765f32eeb261e89075fe2bbb8?ref=outlook-calendar
STATUS:CONFIRMED
SEQUENCE:3
BEGIN:VALARM
TRIGGER:-PT10M
DESCRIPTION:Class Reminder
ACTION:DISPLAY
END:VALARM
END:VEVENT
END:VCALENDAR