BEGIN:VCALENDAR
VERSION:2.0
CALSCALE:GREGORIAN
BEGIN:VEVENT
URL:https://www.learndesk.us/class/5461001015132160/impromptu-public-speaking-success-in-7-days?ref=outlook-calendar
SUMMARY:Impromptu Public Speaking Success in 7 Days
DTSTART;TZID=America/Los_Angeles:20260421T190000
DTEND;TZID=America/Los_Angeles:20260421T200000
LOCATION:https://www.learndesk.us/class/5461001015132160/impromptu-public-speaking-success-in-7-days?ref=outlook-calendar
DESCRIPTION: 
Become stronger and more confident at impromptu public speaking in 7 days. This course leads you step-by-step through proven impromptu public speaking frameworks and speech delivery techniques. The steps are simple and rely on practice and common sense.
What will you learn in this course?


Speak off the cuff for up to 4 minutes
Have a sound knowledge of some public speaking speech frameworks you can use during impromptu speaking
Understand how to expand upon a subject when public speaking, even when you don't have a great deal of knowledge on it.




https://www.learndesk.us/class/5461001015132160/impromptu-public-speaking-success-in-7-days?ref=outlook-calendar
STATUS:CONFIRMED
SEQUENCE:3
BEGIN:VALARM
TRIGGER:-PT10M
DESCRIPTION:Class Reminder
ACTION:DISPLAY
END:VALARM
END:VEVENT
END:VCALENDAR