BEGIN:VCALENDAR
VERSION:2.0
CALSCALE:GREGORIAN
BEGIN:VEVENT
URL:https://www.learndesk.us/class/5460907729616896/lesson/f59469356de3fdd0c28f03196b9a5e0a?ref=outlook-calendar
SUMMARY:Dining Etiquette 5 
DTSTART;TZID=America/Los_Angeles:20260422T190000
DTEND;TZID=America/Los_Angeles:20260422T200000
LOCATION:https://www.learndesk.us/class/5460907729616896/lesson/f59469356de3fdd0c28f03196b9a5e0a?ref=outlook-calendar
DESCRIPTION: We are not starting to eat yet. Handling the bread roll is the first thing.

https://www.learndesk.us/class/5460907729616896/lesson/f59469356de3fdd0c28f03196b9a5e0a?ref=outlook-calendar
STATUS:CONFIRMED
SEQUENCE:3
BEGIN:VALARM
TRIGGER:-PT10M
DESCRIPTION:Class Reminder
ACTION:DISPLAY
END:VALARM
END:VEVENT
END:VCALENDAR