BEGIN:VCALENDAR
VERSION:2.0
CALSCALE:GREGORIAN
BEGIN:VEVENT
URL:https://www.learndesk.us/class/5417156122509312/lesson/279e9315676f20dd3ec0cdd256bf5efe?ref=outlook-calendar
SUMMARY:Practice Test - 3
DTSTART;TZID=America/Los_Angeles:20260424T190000
DTEND;TZID=America/Los_Angeles:20260424T200000
LOCATION:https://www.learndesk.us/class/5417156122509312/lesson/279e9315676f20dd3ec0cdd256bf5efe?ref=outlook-calendar
DESCRIPTION: Let's have a small practice test before we move ahead.

https://www.learndesk.us/class/5417156122509312/lesson/279e9315676f20dd3ec0cdd256bf5efe?ref=outlook-calendar
STATUS:CONFIRMED
SEQUENCE:3
BEGIN:VALARM
TRIGGER:-PT10M
DESCRIPTION:Class Reminder
ACTION:DISPLAY
END:VALARM
END:VEVENT
END:VCALENDAR