BEGIN:VCALENDAR
VERSION:2.0
CALSCALE:GREGORIAN
BEGIN:VEVENT
URL:https://www.learndesk.us/class/5407541573976064/lesson/be3d9901e59aa41fd17a22e43526ae21?ref=outlook-calendar
SUMMARY:Element Position
DTSTART;TZID=America/Los_Angeles:20260422T190000
DTEND;TZID=America/Los_Angeles:20260422T200000
LOCATION:https://www.learndesk.us/class/5407541573976064/lesson/be3d9901e59aa41fd17a22e43526ae21?ref=outlook-calendar
DESCRIPTION: https://www.learndesk.us/class/5407541573976064/lesson/be3d9901e59aa41fd17a22e43526ae21?ref=outlook-calendar
STATUS:CONFIRMED
SEQUENCE:3
BEGIN:VALARM
TRIGGER:-PT10M
DESCRIPTION:Class Reminder
ACTION:DISPLAY
END:VALARM
END:VEVENT
END:VCALENDAR