BEGIN:VCALENDAR
VERSION:2.0
CALSCALE:GREGORIAN
BEGIN:VEVENT
URL:https://www.learndesk.us/class/5407541573976064/lesson/aef04f79cf7dbb6671bfd8ced091dc8d?ref=outlook-calendar
SUMMARY:CSS Section Overview
DTSTART;TZID=America/Los_Angeles:20260421T190000
DTEND;TZID=America/Los_Angeles:20260421T200000
LOCATION:https://www.learndesk.us/class/5407541573976064/lesson/aef04f79cf7dbb6671bfd8ced091dc8d?ref=outlook-calendar
DESCRIPTION: https://www.learndesk.us/class/5407541573976064/lesson/aef04f79cf7dbb6671bfd8ced091dc8d?ref=outlook-calendar
STATUS:CONFIRMED
SEQUENCE:3
BEGIN:VALARM
TRIGGER:-PT10M
DESCRIPTION:Class Reminder
ACTION:DISPLAY
END:VALARM
END:VEVENT
END:VCALENDAR