BEGIN:VCALENDAR
VERSION:2.0
CALSCALE:GREGORIAN
BEGIN:VEVENT
URL:https://www.learndesk.us/class/5407541573976064/lesson/a7ec3ab4bbe90a70992c7ee026d73519?ref=outlook-calendar
SUMMARY:PHP
DTSTART;TZID=America/Los_Angeles:20260423T190000
DTEND;TZID=America/Los_Angeles:20260423T200000
LOCATION:https://www.learndesk.us/class/5407541573976064/lesson/a7ec3ab4bbe90a70992c7ee026d73519?ref=outlook-calendar
DESCRIPTION: After this section - Students will learn how to upload files, create log in functionalities, how to use Object Oriented Programming and more

https://www.learndesk.us/class/5407541573976064/lesson/a7ec3ab4bbe90a70992c7ee026d73519?ref=outlook-calendar
STATUS:CONFIRMED
SEQUENCE:3
BEGIN:VALARM
TRIGGER:-PT10M
DESCRIPTION:Class Reminder
ACTION:DISPLAY
END:VALARM
END:VEVENT
END:VCALENDAR