BEGIN:VCALENDAR
VERSION:2.0
CALSCALE:GREGORIAN
BEGIN:VEVENT
URL:https://www.learndesk.us/class/5407541573976064/lesson/92448115a55f4fbf750079e6b0d0b9b0?ref=outlook-calendar
SUMMARY:HTML Structure of a web page
DTSTART;TZID=America/Los_Angeles:20260422T190000
DTEND;TZID=America/Los_Angeles:20260422T200000
LOCATION:https://www.learndesk.us/class/5407541573976064/lesson/92448115a55f4fbf750079e6b0d0b9b0?ref=outlook-calendar
DESCRIPTION: https://www.learndesk.us/class/5407541573976064/lesson/92448115a55f4fbf750079e6b0d0b9b0?ref=outlook-calendar
STATUS:CONFIRMED
SEQUENCE:3
BEGIN:VALARM
TRIGGER:-PT10M
DESCRIPTION:Class Reminder
ACTION:DISPLAY
END:VALARM
END:VEVENT
END:VCALENDAR