BEGIN:VCALENDAR
VERSION:2.0
CALSCALE:GREGORIAN
BEGIN:VEVENT
URL:https://www.learndesk.us/class/5407541573976064/lesson/85b10f0b2a5c18c1649372590ac0160b?ref=outlook-calendar
SUMMARY:App Landing Page - part 4
DTSTART;TZID=America/Los_Angeles:20260422T190000
DTEND;TZID=America/Los_Angeles:20260422T200000
LOCATION:https://www.learndesk.us/class/5407541573976064/lesson/85b10f0b2a5c18c1649372590ac0160b?ref=outlook-calendar
DESCRIPTION: https://www.learndesk.us/class/5407541573976064/lesson/85b10f0b2a5c18c1649372590ac0160b?ref=outlook-calendar
STATUS:CONFIRMED
SEQUENCE:3
BEGIN:VALARM
TRIGGER:-PT10M
DESCRIPTION:Class Reminder
ACTION:DISPLAY
END:VALARM
END:VEVENT
END:VCALENDAR