BEGIN:VCALENDAR
VERSION:2.0
CALSCALE:GREGORIAN
BEGIN:VEVENT
URL:https://www.learndesk.us/class/5407541573976064/lesson/6e9a1688f93e812f34f1d64d314c012d?ref=outlook-calendar
SUMMARY:Creating and connecting to database
DTSTART;TZID=America/Los_Angeles:20260422T190000
DTEND;TZID=America/Los_Angeles:20260422T200000
LOCATION:https://www.learndesk.us/class/5407541573976064/lesson/6e9a1688f93e812f34f1d64d314c012d?ref=outlook-calendar
DESCRIPTION: https://www.learndesk.us/class/5407541573976064/lesson/6e9a1688f93e812f34f1d64d314c012d?ref=outlook-calendar
STATUS:CONFIRMED
SEQUENCE:3
BEGIN:VALARM
TRIGGER:-PT10M
DESCRIPTION:Class Reminder
ACTION:DISPLAY
END:VALARM
END:VEVENT
END:VCALENDAR