BEGIN:VCALENDAR
VERSION:2.0
CALSCALE:GREGORIAN
BEGIN:VEVENT
URL:https://www.learndesk.us/class/5407541573976064/lesson/45a8861c39926a7d5d06b28305f69d12?ref=outlook-calendar
SUMMARY:Bootstrap
DTSTART;TZID=America/Los_Angeles:20260422T190000
DTEND;TZID=America/Los_Angeles:20260422T200000
LOCATION:https://www.learndesk.us/class/5407541573976064/lesson/45a8861c39926a7d5d06b28305f69d12?ref=outlook-calendar
DESCRIPTION: After this section - Students will be able to style web pages very fast using Bootstrap and create modern, responsive designs

https://www.learndesk.us/class/5407541573976064/lesson/45a8861c39926a7d5d06b28305f69d12?ref=outlook-calendar
STATUS:CONFIRMED
SEQUENCE:3
BEGIN:VALARM
TRIGGER:-PT10M
DESCRIPTION:Class Reminder
ACTION:DISPLAY
END:VALARM
END:VEVENT
END:VCALENDAR