BEGIN:VCALENDAR
VERSION:2.0
CALSCALE:GREGORIAN
BEGIN:VEVENT
URL:https://www.learndesk.us/class/5407541573976064/lesson/40f392b7ea9aa00421c043ed3b2223f9?ref=outlook-calendar
SUMMARY:MySQL
DTSTART;TZID=America/Los_Angeles:20260421T190000
DTEND;TZID=America/Los_Angeles:20260421T200000
LOCATION:https://www.learndesk.us/class/5407541573976064/lesson/40f392b7ea9aa00421c043ed3b2223f9?ref=outlook-calendar
DESCRIPTION: After this section - Students will be able to create and connect to database, to insert, update, view and delete data from tables and more

https://www.learndesk.us/class/5407541573976064/lesson/40f392b7ea9aa00421c043ed3b2223f9?ref=outlook-calendar
STATUS:CONFIRMED
SEQUENCE:3
BEGIN:VALARM
TRIGGER:-PT10M
DESCRIPTION:Class Reminder
ACTION:DISPLAY
END:VALARM
END:VEVENT
END:VCALENDAR