BEGIN:VCALENDAR
VERSION:2.0
CALSCALE:GREGORIAN
BEGIN:VEVENT
URL:https://www.learndesk.us/class/5407541573976064/lesson/25169729336563a12be5d316924c4eb6?ref=outlook-calendar
SUMMARY:HTML5
DTSTART;TZID=America/Los_Angeles:20260421T190000
DTEND;TZID=America/Los_Angeles:20260421T200000
LOCATION:https://www.learndesk.us/class/5407541573976064/lesson/25169729336563a12be5d316924c4eb6?ref=outlook-calendar
DESCRIPTION: After this section - students will be able to create working and content-rich web pages

https://www.learndesk.us/class/5407541573976064/lesson/25169729336563a12be5d316924c4eb6?ref=outlook-calendar
STATUS:CONFIRMED
SEQUENCE:3
BEGIN:VALARM
TRIGGER:-PT10M
DESCRIPTION:Class Reminder
ACTION:DISPLAY
END:VALARM
END:VEVENT
END:VCALENDAR