BEGIN:VCALENDAR
VERSION:2.0
CALSCALE:GREGORIAN
BEGIN:VEVENT
URL:https://www.learndesk.us/class/5407541573976064/practical-introduction-to-web-development?ref=outlook-calendar
SUMMARY:Practical Introduction to Web Development
DTSTART;TZID=America/Los_Angeles:20260421T190000
DTEND;TZID=America/Los_Angeles:20260421T200000
LOCATION:https://www.learndesk.us/class/5407541573976064/practical-introduction-to-web-development?ref=outlook-calendar
DESCRIPTION: 
This course is designed to teach complete beginners the skills to build modern, responsive, and feature-rich websites. We will start by learning HTML and how to create elements for our web pages. Then you will learn how to style and create awesome responsive layouts using CSS. In the 3rd section, you will meet JavaScript - your first taste of real programming.
Next, Bootstrap will teach you how to create responsive designs in a matter of minutes that look good on every device. Next will be the PHP - your first backend language. It will allow you to create scalable websites with modern patterns. You will learn the basics of OOP (Object Oriented Programming) as well. In the MySQL section, you will learn how to store, modify, and retrieve data from a database.
You will turn your static webpage into a dynamic feature-rich website. And in the end, we are going to build a master project using everything you have learned so far, but there is a surprise too. You will finish the master...

https://www.learndesk.us/class/5407541573976064/practical-introduction-to-web-development?ref=outlook-calendar
STATUS:CONFIRMED
SEQUENCE:3
BEGIN:VALARM
TRIGGER:-PT10M
DESCRIPTION:Class Reminder
ACTION:DISPLAY
END:VALARM
END:VEVENT
END:VCALENDAR