BEGIN:VCALENDAR
VERSION:2.0
CALSCALE:GREGORIAN
BEGIN:VEVENT
URL:https://www.learndesk.us/class/5405160752807936/lesson/e3fff6e206097054ea6784d778abe33a?ref=outlook-calendar
SUMMARY:Expressing Empathy Skill
DTSTART;TZID=America/Los_Angeles:20260421T190000
DTEND;TZID=America/Los_Angeles:20260421T200000
LOCATION:https://www.learndesk.us/class/5405160752807936/lesson/e3fff6e206097054ea6784d778abe33a?ref=outlook-calendar
DESCRIPTION: In this module I discuss the skill of expressing empathy and how it can be beneficial for you.

https://www.learndesk.us/class/5405160752807936/lesson/e3fff6e206097054ea6784d778abe33a?ref=outlook-calendar
STATUS:CONFIRMED
SEQUENCE:3
BEGIN:VALARM
TRIGGER:-PT10M
DESCRIPTION:Class Reminder
ACTION:DISPLAY
END:VALARM
END:VEVENT
END:VCALENDAR