BEGIN:VCALENDAR
VERSION:2.0
CALSCALE:GREGORIAN
BEGIN:VEVENT
URL:https://www.learndesk.us/class/5405160752807936/lesson/c5c7c695f07f0b6f7fdfbeeefe457e8b?ref=outlook-calendar
SUMMARY:Outro
DTSTART;TZID=America/Los_Angeles:20260421T190000
DTEND;TZID=America/Los_Angeles:20260421T200000
LOCATION:https://www.learndesk.us/class/5405160752807936/lesson/c5c7c695f07f0b6f7fdfbeeefe457e8b?ref=outlook-calendar
DESCRIPTION: Final words of encouragement, course materials and book promotion.

https://www.learndesk.us/class/5405160752807936/lesson/c5c7c695f07f0b6f7fdfbeeefe457e8b?ref=outlook-calendar
STATUS:CONFIRMED
SEQUENCE:3
BEGIN:VALARM
TRIGGER:-PT10M
DESCRIPTION:Class Reminder
ACTION:DISPLAY
END:VALARM
END:VEVENT
END:VCALENDAR