BEGIN:VCALENDAR
VERSION:2.0
CALSCALE:GREGORIAN
BEGIN:VEVENT
URL:https://www.learndesk.us/class/5405160752807936/lesson/85c8d0693b2025d53dd3f2a0ae89b55d?ref=outlook-calendar
SUMMARY:Attending Skill
DTSTART;TZID=America/Los_Angeles:20260421T190000
DTEND;TZID=America/Los_Angeles:20260421T200000
LOCATION:https://www.learndesk.us/class/5405160752807936/lesson/85c8d0693b2025d53dd3f2a0ae89b55d?ref=outlook-calendar
DESCRIPTION: I go over 4 listening techniques you can start using if you don’t already use them.

https://www.learndesk.us/class/5405160752807936/lesson/85c8d0693b2025d53dd3f2a0ae89b55d?ref=outlook-calendar
STATUS:CONFIRMED
SEQUENCE:3
BEGIN:VALARM
TRIGGER:-PT10M
DESCRIPTION:Class Reminder
ACTION:DISPLAY
END:VALARM
END:VEVENT
END:VCALENDAR