BEGIN:VCALENDAR
VERSION:2.0
CALSCALE:GREGORIAN
BEGIN:VEVENT
URL:https://www.learndesk.us/class/5405160752807936/lesson/716d2d3981b669ffca3a768db0843a95?ref=outlook-calendar
SUMMARY:Intro
DTSTART;TZID=America/Los_Angeles:20260421T190000
DTEND;TZID=America/Los_Angeles:20260421T200000
LOCATION:https://www.learndesk.us/class/5405160752807936/lesson/716d2d3981b669ffca3a768db0843a95?ref=outlook-calendar
DESCRIPTION: Introduction to the Course

https://www.learndesk.us/class/5405160752807936/lesson/716d2d3981b669ffca3a768db0843a95?ref=outlook-calendar
STATUS:CONFIRMED
SEQUENCE:3
BEGIN:VALARM
TRIGGER:-PT10M
DESCRIPTION:Class Reminder
ACTION:DISPLAY
END:VALARM
END:VEVENT
END:VCALENDAR