BEGIN:VCALENDAR
VERSION:2.0
CALSCALE:GREGORIAN
BEGIN:VEVENT
URL:https://www.learndesk.us/class/5405160752807936/lesson/6bb7386186a461faf15e891533092157?ref=outlook-calendar
SUMMARY:Asking Questions
DTSTART;TZID=America/Los_Angeles:20260421T190000
DTEND;TZID=America/Los_Angeles:20260421T200000
LOCATION:https://www.learndesk.us/class/5405160752807936/lesson/6bb7386186a461faf15e891533092157?ref=outlook-calendar
DESCRIPTION: In this module I talk about the usefulness of asking questions. You will learn about the 2 types of questions. Open-ended and Closed-ended questions.

https://www.learndesk.us/class/5405160752807936/lesson/6bb7386186a461faf15e891533092157?ref=outlook-calendar
STATUS:CONFIRMED
SEQUENCE:3
BEGIN:VALARM
TRIGGER:-PT10M
DESCRIPTION:Class Reminder
ACTION:DISPLAY
END:VALARM
END:VEVENT
END:VCALENDAR