BEGIN:VCALENDAR
VERSION:2.0
CALSCALE:GREGORIAN
BEGIN:VEVENT
URL:https://www.learndesk.us/class/5405160752807936/lesson/60ff6870dff7c17d71c2c011e6941d13?ref=outlook-calendar
SUMMARY:Course Materials
DTSTART;TZID=America/Los_Angeles:20260421T190000
DTEND;TZID=America/Los_Angeles:20260421T200000
LOCATION:https://www.learndesk.us/class/5405160752807936/lesson/60ff6870dff7c17d71c2c011e6941d13?ref=outlook-calendar
DESCRIPTION: Here you can find all the tools that I go over in the course.

https://www.learndesk.us/class/5405160752807936/lesson/60ff6870dff7c17d71c2c011e6941d13?ref=outlook-calendar
STATUS:CONFIRMED
SEQUENCE:3
BEGIN:VALARM
TRIGGER:-PT10M
DESCRIPTION:Class Reminder
ACTION:DISPLAY
END:VALARM
END:VEVENT
END:VCALENDAR