BEGIN:VCALENDAR
VERSION:2.0
CALSCALE:GREGORIAN
BEGIN:VEVENT
URL:https://www.learndesk.us/class/5405160752807936/lesson/56aed9f06ce08193aec3cd09951b55da?ref=outlook-calendar
SUMMARY:Communication Tools and Techniques
DTSTART;TZID=America/Los_Angeles:20260421T190000
DTEND;TZID=America/Los_Angeles:20260421T200000
LOCATION:https://www.learndesk.us/class/5405160752807936/lesson/56aed9f06ce08193aec3cd09951b55da?ref=outlook-calendar
DESCRIPTION: https://www.learndesk.us/class/5405160752807936/lesson/56aed9f06ce08193aec3cd09951b55da?ref=outlook-calendar
STATUS:CONFIRMED
SEQUENCE:3
BEGIN:VALARM
TRIGGER:-PT10M
DESCRIPTION:Class Reminder
ACTION:DISPLAY
END:VALARM
END:VEVENT
END:VCALENDAR