BEGIN:VCALENDAR
VERSION:2.0
CALSCALE:GREGORIAN
BEGIN:VEVENT
URL:https://www.learndesk.us/class/5405160752807936/lesson/3c1fdcc0abf78a32f9ffca2353c1beef?ref=outlook-calendar
SUMMARY:Self-Check up Tool
DTSTART;TZID=America/Los_Angeles:20260421T190000
DTEND;TZID=America/Los_Angeles:20260421T200000
LOCATION:https://www.learndesk.us/class/5405160752807936/lesson/3c1fdcc0abf78a32f9ffca2353c1beef?ref=outlook-calendar
DESCRIPTION: The Self-Check up tool is a simple communication tool I like to use. It’s a checklist of 5 things to keep in mind when speaking to people and when you are giving any type of direction.

https://www.learndesk.us/class/5405160752807936/lesson/3c1fdcc0abf78a32f9ffca2353c1beef?ref=outlook-calendar
STATUS:CONFIRMED
SEQUENCE:3
BEGIN:VALARM
TRIGGER:-PT10M
DESCRIPTION:Class Reminder
ACTION:DISPLAY
END:VALARM
END:VEVENT
END:VCALENDAR