BEGIN:VCALENDAR
VERSION:2.0
CALSCALE:GREGORIAN
BEGIN:VEVENT
URL:https://www.learndesk.us/class/5405160752807936/lesson/27c025447256b90b5eacd4c18b1343ed?ref=outlook-calendar
SUMMARY:The Paraphrasing Technique
DTSTART;TZID=America/Los_Angeles:20260425T190000
DTEND;TZID=America/Los_Angeles:20260425T200000
LOCATION:https://www.learndesk.us/class/5405160752807936/lesson/27c025447256b90b5eacd4c18b1343ed?ref=outlook-calendar
DESCRIPTION: In this module you will learn about paraphrasing and why in my view it is a very important technique to know and to understand.

https://www.learndesk.us/class/5405160752807936/lesson/27c025447256b90b5eacd4c18b1343ed?ref=outlook-calendar
STATUS:CONFIRMED
SEQUENCE:3
BEGIN:VALARM
TRIGGER:-PT10M
DESCRIPTION:Class Reminder
ACTION:DISPLAY
END:VALARM
END:VEVENT
END:VCALENDAR