BEGIN:VCALENDAR
VERSION:2.0
CALSCALE:GREGORIAN
BEGIN:VEVENT
URL:https://www.learndesk.us/class/5405160752807936/lesson/139aa2298687096c8640b5880713a024?ref=outlook-calendar
SUMMARY:Facts About Communication
DTSTART;TZID=America/Los_Angeles:20260421T190000
DTEND;TZID=America/Los_Angeles:20260421T200000
LOCATION:https://www.learndesk.us/class/5405160752807936/lesson/139aa2298687096c8640b5880713a024?ref=outlook-calendar
DESCRIPTION: In this module we discuss some facts and I also talk about the importance of communication.

https://www.learndesk.us/class/5405160752807936/lesson/139aa2298687096c8640b5880713a024?ref=outlook-calendar
STATUS:CONFIRMED
SEQUENCE:3
BEGIN:VALARM
TRIGGER:-PT10M
DESCRIPTION:Class Reminder
ACTION:DISPLAY
END:VALARM
END:VEVENT
END:VCALENDAR