BEGIN:VCALENDAR
VERSION:2.0
CALSCALE:GREGORIAN
BEGIN:VEVENT
URL:https://www.learndesk.us/class/5405160752807936/leadership-skills-communicating-effectively?ref=outlook-calendar
SUMMARY:Leadership Skills: Communicating Effectively
DTSTART;TZID=America/Los_Angeles:20260421T190000
DTEND;TZID=America/Los_Angeles:20260421T200000
LOCATION:https://www.learndesk.us/class/5405160752807936/leadership-skills-communicating-effectively?ref=outlook-calendar
DESCRIPTION: 
This course teaches students how to communicate more effectively. In it you will learn about:

Facts about communication
Self-check up
Three levels of listening
Attending skill
Asking questions
The paraphrasing technique
Expressing empathy

What will you learn in this course?

Being able to clarify expectations better and minimize misunderstandings.
Improving conversation exchange by understanding open-ended and closed-ended questions.
Increase understanding and precision through paraphrasing.
Learning to De-escalate tense situations with empathic responses.



https://www.learndesk.us/class/5405160752807936/leadership-skills-communicating-effectively?ref=outlook-calendar
STATUS:CONFIRMED
SEQUENCE:3
BEGIN:VALARM
TRIGGER:-PT10M
DESCRIPTION:Class Reminder
ACTION:DISPLAY
END:VALARM
END:VEVENT
END:VCALENDAR